BEGIN:VCALENDAR
PRODID:-//AT Content Types//AT Event//EN
VERSION:2.0
METHOD:PUBLISH
BEGIN:VEVENT
DTSTAMP:20260423T131417Z
CREATED:20241119T151343Z
UID:ATEvent-e732bfc11f9c478d86921d0f05871443
LAST-MODIFIED:20241219T205040Z
SUMMARY:Blue Ridge Agility Club
DTSTART:20250911T120000Z
DTEND:20250914T210000Z
LOCATION:FENCE Equestrian
CATEGORIES:Dog Show
CONTACT:Lynn Hurley
URL:https://blueridgeagilityclub.com
CLASS:PUBLIC
END:VEVENT
END:VCALENDAR
