BEGIN:VCALENDAR
PRODID:-//AT Content Types//AT Event//EN
VERSION:2.0
METHOD:PUBLISH
BEGIN:VEVENT
DTSTAMP:20260423T095712Z
CREATED:20230117T201306Z
UID:ATEvent-09b526c2cc3a47d9b3bc738e04ebfebd
LAST-MODIFIED:20230117T201306Z
SUMMARY:Blue Ridge Agility Club
DTSTART:20230907T120000Z
DTEND:20230910T210000Z
LOCATION:FENCE Equestrian Side
CATEGORIES:Dog Show
CLASS:PUBLIC
END:VEVENT
END:VCALENDAR
