BEGIN:VCALENDAR
PRODID:-//AT Content Types//AT Event//EN
VERSION:2.0
METHOD:PUBLISH
BEGIN:VEVENT
DTSTAMP:20260423T115248Z
CREATED:20130228T172142Z
UID:ATEvent-6795f8f8-076e-4580-abd0-4b37aa7f0900
LAST-MODIFIED:20130318T161353Z
SUMMARY:Bloomin Dressage
DTSTART:20130330T120000Z
DTEND:20130331T210000Z
DESCRIPTION:Easter weekend will be special at FENCE for dressage compe
 titors with Viewpoint Farm's recognized "Bloomin Dressage" show.
CATEGORIES:Horse Show
CONTACT:Kay Whitlock\, 910-692-3504
CLASS:PUBLIC
END:VEVENT
END:VCALENDAR
