BEGIN:VCALENDAR
PRODID:-//AT Content Types//AT Event//EN
VERSION:1.0
BEGIN:VEVENT
DTSTART:20150328T040000Z
DTEND:20150329T040000Z
DCREATED:20150113T212306Z
UID:ATEvent-2faf44c7-dbc8-4f0b-aeb2-5c8c4b541eec
SEQUENCE:0
LAST-MODIFIED:20150113T212338Z
SUMMARY:Bloomin Dressage
PRIORITY:3
TRANSP:0
END:VEVENT
END:VCALENDAR
