BEGIN:VCALENDAR
PRODID:-//AT Content Types//AT Event//EN
VERSION:2.0
METHOD:PUBLISH
BEGIN:VEVENT
DTSTAMP:20260423T105718Z
CREATED:20131204T213320Z
UID:ATEvent-d4b6caeb-023d-4374-a6a1-3bb94781ea93
LAST-MODIFIED:20131204T213320Z
SUMMARY:Bloomin Dressage
DTSTART:20140329T120000Z
DTEND:20140330T210000Z
LOCATION:FENCE EQ side
CATEGORIES:Horse Show
CONTACT:Kay Whitlock
URL:http://www.carolinadressage.com
CLASS:PUBLIC
END:VEVENT
END:VCALENDAR
