BEGIN:VCALENDAR
PRODID:-//AT Content Types//AT Event//EN
VERSION:2.0
METHOD:PUBLISH
BEGIN:VEVENT
DTSTAMP:20260423T115330Z
CREATED:20250619T154212Z
UID:ATEvent-c3f2f1ae6d524cfbbea76395bacde48c
LAST-MODIFIED:20250729T001712Z
SUMMARY:Black Bear Needle Felting Workshop
DTSTART:20250807T140000Z
DTEND:20250807T190000Z
DESCRIPTION:Join fiber artist Irene Heckel-Volpe\, at FENCE on Thursda
 y\, August 7th from 10am-3pm for a Black Bear Needle Felting Workshop.
 
CATEGORIES:Family
CONTACT:828-859-9021\, info@fence.org
CLASS:PUBLIC
END:VEVENT
END:VCALENDAR
