BEGIN:VCALENDAR
PRODID:-//AT Content Types//AT Event//EN
VERSION:2.0
METHOD:PUBLISH
BEGIN:VEVENT
DTSTAMP:20260423T105846Z
CREATED:20161130T203858Z
UID:ATEvent-c7a6accce9434fc3a8d99efa4c45e2b4
LAST-MODIFIED:20170126T184942Z
SUMMARY:Birds of Prey-Wild for Life
DTSTART:20170225T190000Z
DTEND:20170225T210000Z
DESCRIPTION:Local Wildlife rehabilitation organization\, Wild for Life
 \, to visit FENCE. Get up close and personal with some local birds of 
 prey. They will present a fun\, educational program on local bird of p
 rey species\, their role in the environment\, and the role of wildlife
  rehabilitation centers in our area. Wild for life will be bringing al
 ong a few of their educational birds for the presentation as well! Thi
 s event is free\, open to the public\, and is sure to be a great event
  for attendees of all ages.
LOCATION:FENCE Center
CATEGORIES:Nature Program
CONTACT:Tracie Hanson\, 8288599021\, info@fence.org
CLASS:PUBLIC
END:VEVENT
END:VCALENDAR
