BEGIN:VCALENDAR
PRODID:-//AT Content Types//AT Event//EN
VERSION:1.0
BEGIN:VEVENT
DTSTART:20210325T120000Z
DTEND:20210325T140000Z
DCREATED:20210309T151644Z
UID:ATEvent-bb29ba7d21704e3ea6c74c54d786ddb9
SEQUENCE:0
LAST-MODIFIED:20210318T211140Z
SUMMARY:FULL-Bird walk
DESCRIPTION:This event is full. Registration is required for this free
  program. Join us for a Spring bird walk around the FENCE property.
LOCATION:fence center
PRIORITY:3
TRANSP:0
END:VEVENT
END:VCALENDAR
