BEGIN:VCALENDAR
PRODID:-//AT Content Types//AT Event//EN
VERSION:2.0
METHOD:PUBLISH
BEGIN:VEVENT
DTSTAMP:20260423T114911Z
CREATED:20210607T195832Z
UID:ATEvent-c97ea8afe1b34503883ca64af841e15f
LAST-MODIFIED:20210623T192333Z
SUMMARY:Cancelled-Bird walk
DTSTART:20210624T120000Z
DTEND:20210624T140000Z
DESCRIPTION:Working on rescheduling. New date tbd
LOCATION:FENCE center
CATEGORIES:Nature Program
CONTACT:828-859-9021\, info@fence.org
CLASS:PUBLIC
END:VEVENT
END:VCALENDAR
