BEGIN:VCALENDAR
PRODID:-//AT Content Types//AT Event//EN
VERSION:2.0
METHOD:PUBLISH
BEGIN:VEVENT
DTSTAMP:20260423T223659Z
CREATED:20170106T175000Z
UID:ATEvent-d9b0409b5e244ee39d0d9b6e01d2eb53
LAST-MODIFIED:20170828T161710Z
SUMMARY:Bird Migration Workshop with Simon Thompson
DTSTART:20170902T130000Z
DTEND:20170902T150000Z
DESCRIPTION:FENCE will offer a free bird migration workshop led by loc
 al Ornithologist\, Simon Thompson. Thompson\, an expert in his field\,
  leads birding tour groups all over the world as well as here in North
  Carolina. Join Thompson for a workshop at the FENCE center where we w
 ill explore the nature and mystery surrounding bird migration.
LOCATION:FENCE Center
CATEGORIES:Training
CONTACT:Tracie Hanson\, 8288599021\, info@fence.org
CLASS:PUBLIC
END:VEVENT
END:VCALENDAR
