BEGIN:VCALENDAR
PRODID:-//AT Content Types//AT Event//EN
VERSION:2.0
METHOD:PUBLISH
BEGIN:VEVENT
DTSTAMP:20260423T154629Z
CREATED:20170109T200336Z
UID:ATEvent-67a977a5ec9543999a69a1cbd4be0230
LAST-MODIFIED:20180821T135649Z
SUMMARY:Bird Feeding Workshop with Aaron Steed
DTSTART:20171201T150000Z
DTEND:20171201T170000Z
DESCRIPTION:Join Aaron Steed from Ventures Birding as he leads a works
 hop on the basics of bird feeding. This event was made possible by the
  Kirby Endowment at the Polk County Community Foundation.
LOCATION:FENCE Center
CATEGORIES:Training
CONTACT:Tracie Hanson\, 8288599021\, info@fence.org
CLASS:PUBLIC
END:VEVENT
END:VCALENDAR
