BEGIN:VCALENDAR
PRODID:-//AT Content Types//AT Event//EN
VERSION:2.0
METHOD:PUBLISH
BEGIN:VEVENT
DTSTAMP:20260423T071154Z
CREATED:20181016T150040Z
UID:ATEvent-a9d2e39604a841829fcf0d410d657740
LAST-MODIFIED:20181016T154624Z
SUMMARY:Bird Feeding Workshop with Aaron Steed
DTSTART:20181214T150000Z
DTEND:20181214T163000Z
DESCRIPTION:Join Aaron Steed from Ventures Birding as he leads a works
 hop on the basics of bird feeding. This workshop is free and open to t
 he public.
LOCATION:FENCE Center
CATEGORIES:Nature Program
CONTACT:828-859-9021\, info@fence.org
CLASS:PUBLIC
END:VEVENT
END:VCALENDAR
