BEGIN:VCALENDAR
PRODID:-//AT Content Types//AT Event//EN
VERSION:1.0
BEGIN:VEVENT
DTSTART:20250724T220000Z
DTEND:20250725T003000Z
DCREATED:20250619T153839Z
UID:ATEvent-309dde12c7a94a41adbcc2928a1b34ed
SEQUENCE:0
LAST-MODIFIED:20250619T153839Z
SUMMARY:Bingo Night
PRIORITY:3
TRANSP:0
END:VEVENT
END:VCALENDAR
