BEGIN:VCALENDAR
PRODID:-//AT Content Types//AT Event//EN
VERSION:2.0
METHOD:PUBLISH
BEGIN:VEVENT
DTSTAMP:20260423T115208Z
CREATED:20140120T215808Z
UID:ATEvent-7e46771c-d0ac-4c5a-aff6-4880071fdd57
LAST-MODIFIED:20140208T200618Z
SUMMARY:Beginning Bird Watching with Simon Thompson
DTSTART:20140514T140000Z
DTEND:20140514T150000Z
DESCRIPTION:Birdwatching (or birding as it's now more often called) is
  the largest and fastest growing hobby in the country. From backyard b
 irdwatchers to International birding travelers\, it is estimated that 
 over 50 million people enjoy birds to some extent or the other.
LOCATION:Fence Center
CATEGORIES:Family
CONTACT:Tracie Hanson\, 8288599021\, info@fence.org
CLASS:PUBLIC
END:VEVENT
END:VCALENDAR
