BEGIN:VCALENDAR
PRODID:-//AT Content Types//AT Event//EN
VERSION:2.0
METHOD:PUBLISH
BEGIN:VEVENT
DTSTAMP:20260420T191548Z
CREATED:20130108T153000Z
UID:ATEvent-9d0ea9c9-3c6d-4b7a-a195-f7ccea92354c
LAST-MODIFIED:20130108T153000Z
SUMMARY:Beginner Horse Camp
DTSTART:20130610T123000Z
DTEND:20130614T163000Z
DESCRIPTION:AGES [8 – 12] [8:30-12:30] $150.00 SESSION\nLEARN THE BA
 SICS OF HORSE CARE\, WHICH WILL INCLUDE GROOMING\, TACKING\, AND HORSE
  SAFETY.  ALSO LEARN\nHOW TO MOUNT\, DISMOUNT\, WALK AND TROT\nLimited
  to 25 Campers
CATEGORIES:Childrens Day Camp
CONTACT:Tracie Hanson\, 828-859-9021\, natureeducation@fence.org
CLASS:PUBLIC
END:VEVENT
END:VCALENDAR
