BEGIN:VCALENDAR
PRODID:-//AT Content Types//AT Event//EN
VERSION:2.0
METHOD:PUBLISH
BEGIN:VEVENT
DTSTAMP:20260423T154522Z
CREATED:20151026T195738Z
UID:ATEvent-98e7ebf4-2dbd-4419-ab4c-34fb56bececb
LAST-MODIFIED:20160614T151610Z
SUMMARY:FENCE Horse Camp
DTSTART:20160620T123000Z
DTEND:20160624T163000Z
DESCRIPTION:AGES [8 – 12] [8:30-12:30] $175.00 SESSION\nLEARN THE BA
 SICS OF HORSE CARE\, WHICH WILL INCLUDE GROOMING\, TACKING\, AND HORSE
  SAFETY.  ALSO LEARN HOW TO MOUNT\, DISMOUNT\, WALK AND TROT\nLimited 
 to 25 Campers
CATEGORIES:Family
CONTACT:Tracie Hanson\, 8288599021\, info@fence.org
CLASS:PUBLIC
END:VEVENT
END:VCALENDAR
