BEGIN:VCALENDAR
PRODID:-//AT Content Types//AT Event//EN
VERSION:1.0
BEGIN:VEVENT
DTSTART:20140616T123000Z
DTEND:20140620T163000Z
DCREATED:20140414T184055Z
UID:ATEvent-ac594db9-b939-49eb-be15-24d66d861e22
SEQUENCE:0
LAST-MODIFIED:20140414T184056Z
SUMMARY:Beginner Horse Camp
DESCRIPTION:June 16 through June 20 is horse camp for ages 8 to 12\, w
 here participants learn the basics of horse care\, including horse saf
 ety\, grooming and tacking up.  Students also learn how to mount a hor
 se\, to dismount and how to walk and trot when mounted.  This camp is 
 limited to 25 campers\, starts at 8:30 AM and ends at 12:30 PM.  The c
 ost per camper is $150.
LOCATION:FENCE EQ side
PRIORITY:3
TRANSP:0
END:VEVENT
END:VCALENDAR
