BEGIN:VCALENDAR
PRODID:-//AT Content Types//AT Event//EN
VERSION:1.0
BEGIN:VEVENT
DTSTART:20150615T123000Z
DTEND:20150619T163000Z
DCREATED:20150324T191056Z
UID:ATEvent-5ba84b7b-d715-419c-8a2a-348e9aa69333
SEQUENCE:0
LAST-MODIFIED:20150324T191135Z
SUMMARY:Beginner Horse Camp
DESCRIPTION:AGES [8–12]  8:30-12:30 $175.00 \nLEARN THE BASICS OF HO
 RSE CARE\, WHICH WILL INCLUDE GROOMING\, TACKING\, AND HORSE SAFETY.  
 ALSO LEARN HOW TO MOUNT\, DISMOUNT\, WALK AND TROT
PRIORITY:3
TRANSP:0
END:VEVENT
END:VCALENDAR
