BEGIN:VCALENDAR
PRODID:-//AT Content Types//AT Event//EN
VERSION:2.0
METHOD:PUBLISH
BEGIN:VEVENT
DTSTAMP:20260423T223424Z
CREATED:20220407T173601Z
UID:ATEvent-a0e3c83ec4fa429e9f38ef6b9c17867a
LAST-MODIFIED:20220407T173601Z
SUMMARY:Beginner Birding Workshop
DTSTART:20220521T140000Z
DTEND:20220521T160000Z
DESCRIPTION:Vicky Burke\, Ventures birding guide\, will lead a beginne
 r birding workshop at FENCE. Learn the basics of birding as we explore
  the property at FENCE.
LOCATION:FENCE Center
CATEGORIES:Nature Program
CONTACT:8288599021\, info@fence.org
CLASS:PUBLIC
END:VEVENT
END:VCALENDAR
