BEGIN:VCALENDAR
PRODID:-//AT Content Types//AT Event//EN
VERSION:2.0
METHOD:PUBLISH
BEGIN:VEVENT
DTSTAMP:20260423T141842Z
CREATED:20200208T031238Z
UID:ATEvent-72e1c70ded4e4ec78a33c748e41d8d9d
LAST-MODIFIED:20200330T132933Z
SUMMARY:Postponed- Bearwise presentation
DTSTART:20200425T150000Z
DTEND:20200425T160000Z
DESCRIPTION:This event has been rescheduled for Saturday\, September 1
 2th at 11am.
LOCATION:FENCE center
CATEGORIES:Nature Program
CONTACT:828 859 9021\, info@fence.org
CLASS:PUBLIC
END:VEVENT
END:VCALENDAR
