BEGIN:VCALENDAR
PRODID:-//AT Content Types//AT Event//EN
VERSION:1.0
BEGIN:VEVENT
DTSTART:20220929T140000Z
DTEND:20220929T150000Z
DCREATED:20220829T163012Z
UID:ATEvent-ea06cb7868e74fa8aed4447fff87dc46
SEQUENCE:0
LAST-MODIFIED:20220829T181814Z
SUMMARY:Bearwise presentation
DESCRIPTION:Want to learn more about bears in WNC and how to live resp
 onsibly with bears.\nJoin us for this great presentation.  Presented b
 y Tanya Poole with NC Wildlife Resources Commission.
LOCATION:FENCE Center
PRIORITY:3
TRANSP:0
END:VEVENT
END:VCALENDAR
