BEGIN:VCALENDAR
PRODID:-//AT Content Types//AT Event//EN
VERSION:1.0
BEGIN:VEVENT
DTSTART:20171019T140000Z
DTEND:20171019T200000Z
DCREATED:20170105T195336Z
UID:ATEvent-581028e10b5a409b972d6562d3b62936
SEQUENCE:0
LAST-MODIFIED:20170105T195336Z
SUMMARY:Bats Workshop
LOCATION:FENCE Center
PRIORITY:3
TRANSP:0
END:VEVENT
END:VCALENDAR
