BEGIN:VCALENDAR
PRODID:-//AT Content Types//AT Event//EN
VERSION:1.0
BEGIN:VEVENT
DTSTART:20240126T140000Z
DTEND:20240127T220000Z
DCREATED:20230928T154914Z
UID:ATEvent-468f4c8866814512ab0fadf1a739e581
SEQUENCE:0
LAST-MODIFIED:20230928T154914Z
SUMMARY:Barrel Racing
LOCATION:FENCE Equestrian SIde
PRIORITY:3
TRANSP:0
END:VEVENT
END:VCALENDAR
