BEGIN:VCALENDAR
PRODID:-//AT Content Types//AT Event//EN
VERSION:1.0
BEGIN:VEVENT
DTSTART:20250919T210000Z
DTEND:20250920T210000Z
DCREATED:20241119T151410Z
UID:ATEvent-9d63345d9a094c82a7ba5e504326ff80
SEQUENCE:0
LAST-MODIFIED:20241219T205155Z
SUMMARY:Barrel Racing
LOCATION:FENCE Equestrian
PRIORITY:3
TRANSP:0
END:VEVENT
END:VCALENDAR
