BEGIN:VCALENDAR
PRODID:-//AT Content Types//AT Event//EN
VERSION:2.0
METHOD:PUBLISH
BEGIN:VEVENT
DTSTAMP:20260423T130804Z
CREATED:20250619T155612Z
UID:ATEvent-101ae7162c104112b99ceeac0a696bb1
LAST-MODIFIED:20250820T133522Z
SUMMARY:Barrel Race
DTSTART:20250822T120000Z
DTEND:20250823T230000Z
CATEGORIES:Horse Show
CONTACT:Mike Callahan\, 8644265409
CLASS:PUBLIC
END:VEVENT
END:VCALENDAR
