BEGIN:VCALENDAR
PRODID:-//AT Content Types//AT Event//EN
VERSION:2.0
METHOD:PUBLISH
BEGIN:VEVENT
DTSTAMP:20260423T114910Z
CREATED:20251217T181346Z
UID:ATEvent-2aa3c76788b8429e843d758fc0617e24
LAST-MODIFIED:20260122T192346Z
SUMMARY:Barrel Race
DTSTART:20260807T220000Z
DTEND:20260809T020000Z
CATEGORIES:Horse Show
CONTACT:Matt Bates
CLASS:PUBLIC
END:VEVENT
END:VCALENDAR
