BEGIN:VCALENDAR
PRODID:-//AT Content Types//AT Event//EN
VERSION:1.0
BEGIN:VEVENT
DTSTART:20260620T120000Z
DTEND:20260620T210000Z
DCREATED:20251217T180728Z
UID:ATEvent-20582c0f2bab4dd0bbfb07ad0eed03d2
SEQUENCE:0
LAST-MODIFIED:20251217T180728Z
SUMMARY:Barrel Race
PRIORITY:3
TRANSP:0
END:VEVENT
END:VCALENDAR
