BEGIN:VCALENDAR
PRODID:-//AT Content Types//AT Event//EN
VERSION:2.0
METHOD:PUBLISH
BEGIN:VEVENT
DTSTAMP:20260423T114916Z
CREATED:20251210T165910Z
UID:ATEvent-7a3f7eda3820440db209fc23b26c8cca
LAST-MODIFIED:20251210T165911Z
SUMMARY:Barrel Race
DTSTART:20260314T130000Z
DTEND:20260315T210000Z
CATEGORIES:Horse Show
CONTACT:Matt Bates
CLASS:PUBLIC
END:VEVENT
END:VCALENDAR
