BEGIN:VCALENDAR
PRODID:-//AT Content Types//AT Event//EN
VERSION:2.0
METHOD:PUBLISH
BEGIN:VEVENT
DTSTAMP:20260423T114849Z
CREATED:20250212T150421Z
UID:ATEvent-12fd10ffc34c4ec2ae2e12ca6261af61
LAST-MODIFIED:20250212T150421Z
SUMMARY:Barrel Clinic
DTSTART:20250524T120000Z
DTEND:20250525T210000Z
LOCATION:FENCE Equestrian
CATEGORIES:Horse Show
CLASS:PUBLIC
END:VEVENT
END:VCALENDAR
