BEGIN:VCALENDAR
PRODID:-//AT Content Types//AT Event//EN
VERSION:1.0
BEGIN:VEVENT
DTSTART:20100820T233000Z
DTEND:20100821T010000Z
DCREATED:20100516T014750Z
UID:ATEvent-8dbed98f-fac7-41af-b8c1-1b16cea8075a
SEQUENCE:0
LAST-MODIFIED:20100516T014750Z
SUMMARY:August 20: Foothills Astronomical Society
DESCRIPTION:Regular monthly club meeting. All invited. Enter through r
 ear of FENCE Center.
LOCATION:FENCE Center
PRIORITY:3
TRANSP:0
END:VEVENT
END:VCALENDAR
