BEGIN:VCALENDAR
PRODID:-//AT Content Types//AT Event//EN
VERSION:2.0
METHOD:PUBLISH
BEGIN:VEVENT
DTSTAMP:20260423T131329Z
CREATED:20080713T223818Z
UID:ATEvent-477fdab8-6f63-4877-96fd-0f6c2fe6e6ef
LAST-MODIFIED:20080713T223839Z
SUMMARY:August 16 - TROT Volunteer Training
DTSTART:20080816T130000Z
DTEND:20080816T163000Z
LOCATION:FENCE Center & Rosemary's Barn
CATEGORIES:Training
CONTACT:Carol Ten Broek\, 828-859-9021\, therapeuticriding@fence.org
CLASS:PUBLIC
END:VEVENT
END:VCALENDAR
