BEGIN:VCALENDAR
PRODID:-//AT Content Types//AT Event//EN
VERSION:2.0
METHOD:PUBLISH
BEGIN:VEVENT
DTSTAMP:20260423T105601Z
CREATED:20091215T194848Z
UID:ATEvent-9bff8384-5020-490f-8edf-ca4fa97d39e0
LAST-MODIFIED:20091219T011015Z
SUMMARY:Aug. 6-8: PSJ Horse Show
DTSTART:20100806T110000Z
DTEND:20100808T210000Z
LOCATION:Equestrian Center
CATEGORIES:Horse Show
CONTACT:Rick Cram\, 803-349-3505
URL:http://www.psjshows.com
CLASS:PUBLIC
END:VEVENT
END:VCALENDAR
