BEGIN:VCALENDAR
PRODID:-//AT Content Types//AT Event//EN
VERSION:1.0
BEGIN:VEVENT
DTSTART:20100828T120000Z
DTEND:20100829T200000Z
DCREATED:20091215T195643Z
UID:ATEvent-9a3a6e62-8a1b-4d79-9f52-b100be5944a6
SEQUENCE:0
LAST-MODIFIED:20091219T011053Z
SUMMARY:Aug. 28-29: Tryon Riding & Hunt Club Schooling Horse Trials
LOCATION:Equestrian Center & Cross-country course
PRIORITY:3
TRANSP:0
END:VEVENT
END:VCALENDAR
