BEGIN:VCALENDAR
PRODID:-//AT Content Types//AT Event//EN
VERSION:1.0
BEGIN:VEVENT
DTSTART:20100824T220000Z
DTEND:20100825T000000Z
DCREATED:20100721T153312Z
UID:ATEvent-8ba8058f-4215-4cbe-a736-2459ab76a85b
SEQUENCE:0
LAST-MODIFIED:20100721T153409Z
SUMMARY:Aug. 24: TROT Volunteer Training\, 6pm
DESCRIPTION:Become a volunteer and help TROT help others!
LOCATION:Great Room & Rosemary's Barn
PRIORITY:3
TRANSP:0
END:VEVENT
END:VCALENDAR
