BEGIN:VCALENDAR
PRODID:-//AT Content Types//AT Event//EN
VERSION:1.0
BEGIN:VEVENT
DTSTART:20100802T123000Z
DTEND:20100808T163000Z
DCREATED:20091215T195044Z
UID:ATEvent-4d1c48d1-7ecf-4cac-b6be-ff04996108fe
SEQUENCE:0
LAST-MODIFIED:20091219T195237Z
SUMMARY:Aug. 2-8: FENCE Summer Day Camp
DESCRIPTION:Art Camp. For ages 5-12.
LOCATION:FENCE Center & Grounds
PRIORITY:3
TRANSP:0
END:VEVENT
END:VCALENDAR
