BEGIN:VCALENDAR
PRODID:-//AT Content Types//AT Event//EN
VERSION:1.0
BEGIN:VEVENT
DTSTART:20100819T110000Z
DTEND:20100822T210000Z
DCREATED:20091215T195442Z
UID:ATEvent-1af9521f-90e2-4c59-95b3-13bf0e4a7c3f
SEQUENCE:0
LAST-MODIFIED:20091219T011033Z
SUMMARY:Aug. 19-22: Hunter Jumper Show
PRIORITY:3
TRANSP:0
END:VEVENT
END:VCALENDAR
