BEGIN:VCALENDAR
PRODID:-//AT Content Types//AT Event//EN
VERSION:1.0
BEGIN:VEVENT
DTSTART:20120624T000000Z
DTEND:20120624T020000Z
DCREATED:20120417T141348Z
UID:ATEvent-490ca149-33fc-4f85-b60e-af194596a2db
SEQUENCE:0
LAST-MODIFIED:20120417T141348Z
SUMMARY:Astronomy Surfing the Sky
DESCRIPTION:FREE at Sunset\nThis event will be held on Hawk's Ridge wh
 ich is located behind the FENCE Center at the top of the hill
PRIORITY:3
TRANSP:0
END:VEVENT
END:VCALENDAR
