BEGIN:VCALENDAR
PRODID:-//AT Content Types//AT Event//EN
VERSION:2.0
METHOD:PUBLISH
BEGIN:VEVENT
DTSTAMP:20260423T115245Z
CREATED:20120417T143005Z
UID:ATEvent-4167d3e1-6eb2-4003-8c72-066892ecda2f
LAST-MODIFIED:20120417T143005Z
SUMMARY:Astronomy Surfing the Sky
DTSTART:20121216T010000Z
DTEND:20121216T030000Z
DESCRIPTION:FREE at Sunset\nThis event will be held on Hawk's Ridge wh
 ich is located behind the FENCE Center at the top of the hill
LOCATION:Hawk's Ridge behind FENCE Center
CATEGORIES:Nature/Astronomy
CONTACT:Jim Cooper/Jessie Willard
CLASS:PUBLIC
END:VEVENT
END:VCALENDAR
