BEGIN:VCALENDAR
PRODID:-//AT Content Types//AT Event//EN
VERSION:2.0
METHOD:PUBLISH
BEGIN:VEVENT
DTSTAMP:20260423T115245Z
CREATED:20120417T142814Z
UID:ATEvent-285d60c2-273f-4dff-bbab-1bc1e6e5a2ba
LAST-MODIFIED:20120417T142814Z
SUMMARY:Astronomy Surfing the Sky
DTSTART:20121118T010000Z
DTEND:20121118T030000Z
DESCRIPTION:FREE at Sunset\nThis event will be held on Hawk's Ridge wh
 ich is located behind the FENCE Center at the top of the hill
LOCATION:Hawk's Ridge behind FENCE Center
CATEGORIES:Nature/Astronomy
CONTACT:Jim Cooper/Jessie Willard
CLASS:PUBLIC
END:VEVENT
END:VCALENDAR
