BEGIN:VCALENDAR
PRODID:-//AT Content Types//AT Event//EN
VERSION:2.0
METHOD:PUBLISH
BEGIN:VEVENT
DTSTAMP:20260423T115539Z
CREATED:20120417T142553Z
UID:ATEvent-490b5cb3-72a5-456f-99c7-7ec825f97966
LAST-MODIFIED:20120417T142553Z
SUMMARY:Astronomy Surfing the Sky
DTSTART:20121014T000000Z
DTEND:20121014T020000Z
DESCRIPTION:FREE at Sunset\nThis event will be held on Hawk's Ridge wh
 ich is located behind the FENCE Center at the top of the hill
LOCATION:Hawk's Ridge behind FENCE Center
CATEGORIES:Nature/Astronomy
CONTACT:Jim Cooper/Jessie Willard
CLASS:PUBLIC
END:VEVENT
END:VCALENDAR
