BEGIN:VCALENDAR
PRODID:-//AT Content Types//AT Event//EN
VERSION:1.0
BEGIN:VEVENT
DTSTART:20120819T000000Z
DTEND:20120819T020000Z
DCREATED:20120417T141642Z
UID:ATEvent-b6cf1980-a6db-445b-90b7-64a1ba3208cb
SEQUENCE:0
LAST-MODIFIED:20120417T141642Z
SUMMARY:Astronomy Surfing the Sky
DESCRIPTION:FREE at Sunset\nThis event will be held on Hawk's Ridge wh
 ich is located behind the FENCE Center at the top of the hill
LOCATION:Hawk's Ridge behind FENCE Center
PRIORITY:3
TRANSP:0
END:VEVENT
END:VCALENDAR
