BEGIN:VCALENDAR
PRODID:-//AT Content Types//AT Event//EN
VERSION:2.0
METHOD:PUBLISH
BEGIN:VEVENT
DTSTAMP:20260423T170810Z
CREATED:20130315T203355Z
UID:ATEvent-24bf156a-e270-499c-b722-cfc908c8c8a3
LAST-MODIFIED:20130315T203355Z
SUMMARY:Astronomy Program - Wild Duck Star Cluster!
DTSTART:20130908T003000Z
DTEND:20130908T003000Z
DESCRIPTION:The Foothills Astronomical Society sponsors a program each
  month at FENCE.  Programs start at sunset and last as long as you wan
 t to stay. Telescopes are set up to view stars and planets\, and a gre
 at variety of interesting and beautiful celestial objects. The astrono
 mers are friendly and informative\, and you do not have to have any kn
 owledge of astronomy in order to have a good time.  Programs are cance
 led in case of cloud cover or rain. Please park at the main building a
 nd walk to the top of Hawk’s Ridge.
LOCATION:FENCE on Hawk's Ridge
CATEGORIES:Family
CONTACT:Jessie Willard\, 864-457-2615\, jnjwillard@netzero.net
CLASS:PUBLIC
END:VEVENT
END:VCALENDAR
