BEGIN:VCALENDAR
PRODID:-//AT Content Types//AT Event//EN
VERSION:2.0
METHOD:PUBLISH
BEGIN:VEVENT
DTSTAMP:20260423T131048Z
CREATED:20130315T202523Z
UID:ATEvent-c278527e-7b8a-4439-a436-cf3afe5392ea
LAST-MODIFIED:20130322T203928Z
SUMMARY:Astronomy Program - Saturn Captures the Night!
DTSTART:20130414T003000Z
DTEND:20130414T003000Z
DESCRIPTION:The Foothills Astronomical Society sponsors a program each
  month at FENCE.  Programs start at sunset and last as long as you wan
 t to stay. Telescopes are set up to view stars and planets\, and a gre
 at variety of interesting and beautiful celestial objects.
LOCATION:FENCE on Hawk's Ridge
CATEGORIES:Family
CONTACT:Jessie Willard\, 864-457-2615\, jnjwillard@netzero.net
CLASS:PUBLIC
END:VEVENT
END:VCALENDAR
