BEGIN:VCALENDAR
PRODID:-//AT Content Types//AT Event//EN
VERSION:1.0
BEGIN:VEVENT
DTSTART:20120615T230000Z
DTEND:20120616T010000Z
DCREATED:20120417T141521Z
UID:ATEvent-739b9288-7fae-427d-a882-a2e87880a31d
SEQUENCE:0
LAST-MODIFIED:20120417T141521Z
SUMMARY:Astronomy meeting
DESCRIPTION:Free\nHeld in the conference room at the FENCE Center
LOCATION:FENCE Center
PRIORITY:3
TRANSP:0
END:VEVENT
END:VCALENDAR
