BEGIN:VCALENDAR
PRODID:-//AT Content Types//AT Event//EN
VERSION:2.0
METHOD:PUBLISH
BEGIN:VEVENT
DTSTAMP:20260423T105420Z
CREATED:20120417T143058Z
UID:ATEvent-9ffcaaf4-79a9-4f7a-a22e-6214476424b3
LAST-MODIFIED:20120417T143058Z
SUMMARY:Astronomy meeting
DTSTART:20121222T000000Z
DTEND:20121222T010000Z
DESCRIPTION:Free in conference room at FENCE Center
LOCATION:Fence Center Conference Room
CATEGORIES:Nature/Astronomy
CONTACT:Jim Cooper/Jessie Willard
CLASS:PUBLIC
END:VEVENT
END:VCALENDAR
