BEGIN:VCALENDAR
PRODID:-//AT Content Types//AT Event//EN
VERSION:2.0
METHOD:PUBLISH
BEGIN:VEVENT
DTSTAMP:20260423T115155Z
CREATED:20120417T142907Z
UID:ATEvent-4dba8ff5-42ff-48b9-8176-a26176cdb866
LAST-MODIFIED:20120417T142907Z
SUMMARY:Astronomy meeting
DTSTART:20121117T000000Z
DTEND:20121117T010000Z
DESCRIPTION:Free in conference room at FENCE Center
LOCATION:Fence Center Conference Room
CATEGORIES:Nature/Astronomy
CONTACT:Jim Cooper/Jessie Willard
CLASS:PUBLIC
END:VEVENT
END:VCALENDAR
