BEGIN:VCALENDAR
PRODID:-//AT Content Types//AT Event//EN
VERSION:2.0
METHOD:PUBLISH
BEGIN:VEVENT
DTSTAMP:20260423T115158Z
CREATED:20120417T142703Z
UID:ATEvent-4547cb45-c680-463b-a125-2502ab23d035
LAST-MODIFIED:20120417T142704Z
SUMMARY:Astronomy meeting
DTSTART:20121019T230000Z
DTEND:20121020T000000Z
DESCRIPTION:Free in conference room at FENCE Center
LOCATION:Fence Center Conference Room
CATEGORIES:Nature/Astronomy
CONTACT:Jim Cooper/Jessie Willard
CLASS:PUBLIC
END:VEVENT
END:VCALENDAR
