BEGIN:VCALENDAR
PRODID:-//AT Content Types//AT Event//EN
VERSION:1.0
BEGIN:VEVENT
DTSTART:20120921T230000Z
DTEND:20120922T000000Z
DCREATED:20120417T142414Z
UID:ATEvent-a8d08532-838d-47f7-bd99-8fc4cad65037
SEQUENCE:0
LAST-MODIFIED:20120417T142414Z
SUMMARY:Astronomy meeting
DESCRIPTION:Free in conference room at FENCE Center
LOCATION:Fence Center Conference Room
PRIORITY:3
TRANSP:0
END:VEVENT
END:VCALENDAR
