BEGIN:VCALENDAR
PRODID:-//AT Content Types//AT Event//EN
VERSION:1.0
BEGIN:VEVENT
DTSTART:20120817T230000Z
DTEND:20120818T000000Z
DCREATED:20120417T142242Z
UID:ATEvent-b1919381-14d1-46ab-b52b-c80663807697
SEQUENCE:0
LAST-MODIFIED:20120417T142242Z
SUMMARY:Astronomy meeting
DESCRIPTION:Free in conference room in FENCE Center
LOCATION:Fence Center Conference Room
PRIORITY:3
TRANSP:0
END:VEVENT
END:VCALENDAR
