BEGIN:VCALENDAR
PRODID:-//AT Content Types//AT Event//EN
VERSION:1.0
BEGIN:VEVENT
DTSTART:20120720T230000Z
DTEND:20120721T000000Z
DCREATED:20120417T142112Z
UID:ATEvent-22564388-e482-406c-a7eb-1675aa8743d0
SEQUENCE:0
LAST-MODIFIED:20120417T142112Z
SUMMARY:Astronomy meeting
DESCRIPTION:Free in conference room at FENCE Center
LOCATION:FENCE Center
PRIORITY:3
TRANSP:0
END:VEVENT
END:VCALENDAR
